BEGIN:VCALENDAR
VERSION:2.0
PRODID:-//East Kent Morris Minor Owners Club - ECPv6.15.20//NONSGML v1.0//EN
CALSCALE:GREGORIAN
METHOD:PUBLISH
X-WR-CALNAME:East Kent Morris Minor Owners Club
X-ORIGINAL-URL:https://ekmmoc.co.uk
X-WR-CALDESC:Events for East Kent Morris Minor Owners Club
REFRESH-INTERVAL;VALUE=DURATION:PT1H
X-Robots-Tag:noindex
X-PUBLISHED-TTL:PT1H
BEGIN:VTIMEZONE
TZID:Europe/London
BEGIN:DAYLIGHT
TZOFFSETFROM:+0000
TZOFFSETTO:+0100
TZNAME:BST
DTSTART:20150329T010000
END:DAYLIGHT
BEGIN:STANDARD
TZOFFSETFROM:+0100
TZOFFSETTO:+0000
TZNAME:GMT
DTSTART:20151025T010000
END:STANDARD
BEGIN:DAYLIGHT
TZOFFSETFROM:+0000
TZOFFSETTO:+0100
TZNAME:BST
DTSTART:20160327T010000
END:DAYLIGHT
BEGIN:STANDARD
TZOFFSETFROM:+0100
TZOFFSETTO:+0000
TZNAME:GMT
DTSTART:20161030T010000
END:STANDARD
BEGIN:DAYLIGHT
TZOFFSETFROM:+0000
TZOFFSETTO:+0100
TZNAME:BST
DTSTART:20170326T010000
END:DAYLIGHT
BEGIN:STANDARD
TZOFFSETFROM:+0100
TZOFFSETTO:+0000
TZNAME:GMT
DTSTART:20171029T010000
END:STANDARD
END:VTIMEZONE
BEGIN:VEVENT
DTSTART;VALUE=DATE:20160605
DTEND;VALUE=DATE:20160606
DTSTAMP:20260421T091327
CREATED:20160218T203241Z
LAST-MODIFIED:20160218T203241Z
UID:308-1465084800-1465171199@ekmmoc.co.uk
SUMMARY:SVEC Annual Show\, Sheerness
DESCRIPTION:
URL:https://ekmmoc.co.uk/event/svec-annual-show-sheerness/
LOCATION:SVEC\, Queenborough Road\, Sheerness\, ME12 3DB\, United Kingdom
END:VEVENT
BEGIN:VEVENT
DTSTART;VALUE=DATE:20160605
DTEND;VALUE=DATE:20160606
DTSTAMP:20260421T091327
CREATED:20160218T204151Z
LAST-MODIFIED:20160221T002027Z
UID:313-1465084800-1465171199@ekmmoc.co.uk
SUMMARY:Bromley Pageant
DESCRIPTION:With Autojumble
URL:https://ekmmoc.co.uk/event/bromley-pageant/
LOCATION:Bromley Pageant\, Norman Park\, Bromley\, BR2 9EF\, United Kingdom
END:VEVENT
BEGIN:VEVENT
DTSTART;VALUE=DATE:20160605
DTEND;VALUE=DATE:20160606
DTSTAMP:20260421T091327
CREATED:20160218T204344Z
LAST-MODIFIED:20160218T204344Z
UID:315-1465084800-1465171199@ekmmoc.co.uk
SUMMARY:Bucket and Spade Run
DESCRIPTION:Details to follow
URL:https://ekmmoc.co.uk/event/bucket-and-spade-run/
LOCATION:Bucket and Spade
END:VEVENT
END:VCALENDAR