BEGIN:VCALENDAR
VERSION:2.0
PRODID:-//East Kent Morris Minor Owners Club - ECPv6.15.20//NONSGML v1.0//EN
CALSCALE:GREGORIAN
METHOD:PUBLISH
X-WR-CALNAME:East Kent Morris Minor Owners Club
X-ORIGINAL-URL:https://ekmmoc.co.uk
X-WR-CALDESC:Events for East Kent Morris Minor Owners Club
REFRESH-INTERVAL;VALUE=DURATION:PT1H
X-Robots-Tag:noindex
X-PUBLISHED-TTL:PT1H
BEGIN:VTIMEZONE
TZID:Europe/London
BEGIN:DAYLIGHT
TZOFFSETFROM:+0000
TZOFFSETTO:+0100
TZNAME:BST
DTSTART:20240331T010000
END:DAYLIGHT
BEGIN:STANDARD
TZOFFSETFROM:+0100
TZOFFSETTO:+0000
TZNAME:GMT
DTSTART:20241027T010000
END:STANDARD
BEGIN:DAYLIGHT
TZOFFSETFROM:+0000
TZOFFSETTO:+0100
TZNAME:BST
DTSTART:20250330T010000
END:DAYLIGHT
BEGIN:STANDARD
TZOFFSETFROM:+0100
TZOFFSETTO:+0000
TZNAME:GMT
DTSTART:20251026T010000
END:STANDARD
BEGIN:DAYLIGHT
TZOFFSETFROM:+0000
TZOFFSETTO:+0100
TZNAME:BST
DTSTART:20260329T010000
END:DAYLIGHT
BEGIN:STANDARD
TZOFFSETFROM:+0100
TZOFFSETTO:+0000
TZNAME:GMT
DTSTART:20261025T010000
END:STANDARD
END:VTIMEZONE
BEGIN:VEVENT
DTSTART;VALUE=DATE:20250512
DTEND;VALUE=DATE:20250517
DTSTAMP:20260423T235540
CREATED:20241112T133723Z
LAST-MODIFIED:20241112T133916Z
UID:5203-1747008000-1747439999@ekmmoc.co.uk
SUMMARY:Club Holiday 2025
DESCRIPTION:Our club holiday for 2025 will be at Lakeside on Hayling Island (a Warner Leisure Hotels site). Contact Karen (Club Secretary) to join us there if you can in your Morris Minor for a relaxing Monday to Friday break\, although we are happy to see you in your modern car if driving there in a classic car is difficult for you. \nOn the Friday when it’s time to head home some of us will be heading for Beaulieu for the weekend\, visiting the Beaulieu Spring Autojumble\, and we shall also be visiting the Beaulieu Motor Museum\, while staying at a local Premier Inn.  If you would like to extend your holiday to include the weekend at Beaulieu please speak to Nigel.
URL:https://ekmmoc.co.uk/event/club-holiday-2025/
LOCATION:Warners Lakeside\, Fishery Lane\, Hayling Island\, PO11 9NR\, United Kingdom
END:VEVENT
BEGIN:VEVENT
DTSTART;TZID=Europe/London:20250512T190000
DTEND;TZID=Europe/London:20250512T210000
DTSTAMP:20260423T235540
CREATED:20250303T204349Z
LAST-MODIFIED:20250303T204349Z
UID:5278-1747076400-1747083600@ekmmoc.co.uk
SUMMARY:Club Meeting - Dog and Duck
DESCRIPTION:
URL:https://ekmmoc.co.uk/event/club-meeting-dog-and-duck-91/
LOCATION:Dog and Duck\, Plucks Gutter\, CT3 1JB\, United Kingdom
END:VEVENT
END:VCALENDAR