BEGIN:VCALENDAR
VERSION:2.0
PRODID:-//East Kent Morris Minor Owners Club - ECPv6.15.20//NONSGML v1.0//EN
CALSCALE:GREGORIAN
METHOD:PUBLISH
X-WR-CALNAME:East Kent Morris Minor Owners Club
X-ORIGINAL-URL:https://ekmmoc.co.uk
X-WR-CALDESC:Events for East Kent Morris Minor Owners Club
REFRESH-INTERVAL;VALUE=DURATION:PT1H
X-Robots-Tag:noindex
X-PUBLISHED-TTL:PT1H
BEGIN:VTIMEZONE
TZID:Europe/London
BEGIN:DAYLIGHT
TZOFFSETFROM:+0000
TZOFFSETTO:+0100
TZNAME:BST
DTSTART:20250330T010000
END:DAYLIGHT
BEGIN:STANDARD
TZOFFSETFROM:+0100
TZOFFSETTO:+0000
TZNAME:GMT
DTSTART:20251026T010000
END:STANDARD
BEGIN:DAYLIGHT
TZOFFSETFROM:+0000
TZOFFSETTO:+0100
TZNAME:BST
DTSTART:20260329T010000
END:DAYLIGHT
BEGIN:STANDARD
TZOFFSETFROM:+0100
TZOFFSETTO:+0000
TZNAME:GMT
DTSTART:20261025T010000
END:STANDARD
BEGIN:DAYLIGHT
TZOFFSETFROM:+0000
TZOFFSETTO:+0100
TZNAME:BST
DTSTART:20270328T010000
END:DAYLIGHT
BEGIN:STANDARD
TZOFFSETFROM:+0100
TZOFFSETTO:+0000
TZNAME:GMT
DTSTART:20271031T010000
END:STANDARD
END:VTIMEZONE
BEGIN:VEVENT
DTSTART;TZID=Europe/London:20260425T080000
DTEND;TZID=Europe/London:20260425T150000
DTSTAMP:20260425T023850
CREATED:20260414T091140Z
LAST-MODIFIED:20260417T155540Z
UID:5629-1777104000-1777129200@ekmmoc.co.uk
SUMMARY:Lord Whisky Animal Sanctuary Spring Fayre
DESCRIPTION:The Lord Whisky Charity Boot Fair and Spring Fayre with Classic Car display. 8am to 3pm. No need to book\, just turn up when you can get there\, they would love you to take your Morris along.
URL:https://ekmmoc.co.uk/event/lord-whisky-animal-sanctuary-spring-fayre/
LOCATION:Lord Whisky\, Park House\, Stelling Minnis\, Kent\, CT4 6AN\, United Kingdom
END:VEVENT
END:VCALENDAR