BEGIN:VCALENDAR
VERSION:2.0
PRODID:-//East Kent Morris Minor Owners Club - ECPv6.15.20//NONSGML v1.0//EN
CALSCALE:GREGORIAN
METHOD:PUBLISH
X-WR-CALNAME:East Kent Morris Minor Owners Club
X-ORIGINAL-URL:https://ekmmoc.co.uk
X-WR-CALDESC:Events for East Kent Morris Minor Owners Club
REFRESH-INTERVAL;VALUE=DURATION:PT1H
X-Robots-Tag:noindex
X-PUBLISHED-TTL:PT1H
BEGIN:VTIMEZONE
TZID:Europe/London
BEGIN:DAYLIGHT
TZOFFSETFROM:+0000
TZOFFSETTO:+0100
TZNAME:BST
DTSTART:20250330T010000
END:DAYLIGHT
BEGIN:STANDARD
TZOFFSETFROM:+0100
TZOFFSETTO:+0000
TZNAME:GMT
DTSTART:20251026T010000
END:STANDARD
BEGIN:DAYLIGHT
TZOFFSETFROM:+0000
TZOFFSETTO:+0100
TZNAME:BST
DTSTART:20260329T010000
END:DAYLIGHT
BEGIN:STANDARD
TZOFFSETFROM:+0100
TZOFFSETTO:+0000
TZNAME:GMT
DTSTART:20261025T010000
END:STANDARD
BEGIN:DAYLIGHT
TZOFFSETFROM:+0000
TZOFFSETTO:+0100
TZNAME:BST
DTSTART:20270328T010000
END:DAYLIGHT
BEGIN:STANDARD
TZOFFSETFROM:+0100
TZOFFSETTO:+0000
TZNAME:GMT
DTSTART:20271031T010000
END:STANDARD
END:VTIMEZONE
BEGIN:VEVENT
DTSTART;VALUE=DATE:20260719
DTEND;VALUE=DATE:20260720
DTSTAMP:20260426T034851
CREATED:20260107T140809Z
LAST-MODIFIED:20260322T184854Z
UID:5485-1784419200-1784505599@ekmmoc.co.uk
SUMMARY:Appledore Classic Car Show
DESCRIPTION:
URL:https://ekmmoc.co.uk/event/appledore-classic-car-show-9/
LOCATION:Appledore Recreation Ground\, The Street\, Appledore\, TN26 2AE\, United Kingdom
END:VEVENT
BEGIN:VEVENT
DTSTART;VALUE=DATE:20260719
DTEND;VALUE=DATE:20260720
DTSTAMP:20260426T034851
CREATED:20260107T140855Z
LAST-MODIFIED:20260107T140855Z
UID:5487-1784419200-1784505599@ekmmoc.co.uk
SUMMARY:Bromley Pageant - Ardingly
DESCRIPTION:
URL:https://ekmmoc.co.uk/event/bromley-pageant-ardingly/
LOCATION:Ardingly\, Selsfield Road\, Ardingly\, Haywards Heath\, West Sussex\, RH17 6TL\, United Kingdom
END:VEVENT
END:VCALENDAR