BEGIN:VCALENDAR
VERSION:2.0
PRODID:-//East Kent Morris Minor Owners Club - ECPv6.15.20//NONSGML v1.0//EN
CALSCALE:GREGORIAN
METHOD:PUBLISH
X-WR-CALNAME:East Kent Morris Minor Owners Club
X-ORIGINAL-URL:https://ekmmoc.co.uk
X-WR-CALDESC:Events for East Kent Morris Minor Owners Club
REFRESH-INTERVAL;VALUE=DURATION:PT1H
X-Robots-Tag:noindex
X-PUBLISHED-TTL:PT1H
BEGIN:VTIMEZONE
TZID:Europe/London
BEGIN:DAYLIGHT
TZOFFSETFROM:+0000
TZOFFSETTO:+0100
TZNAME:BST
DTSTART:20240331T010000
END:DAYLIGHT
BEGIN:STANDARD
TZOFFSETFROM:+0100
TZOFFSETTO:+0000
TZNAME:GMT
DTSTART:20241027T010000
END:STANDARD
BEGIN:DAYLIGHT
TZOFFSETFROM:+0000
TZOFFSETTO:+0100
TZNAME:BST
DTSTART:20250330T010000
END:DAYLIGHT
BEGIN:STANDARD
TZOFFSETFROM:+0100
TZOFFSETTO:+0000
TZNAME:GMT
DTSTART:20251026T010000
END:STANDARD
BEGIN:DAYLIGHT
TZOFFSETFROM:+0000
TZOFFSETTO:+0100
TZNAME:BST
DTSTART:20260329T010000
END:DAYLIGHT
BEGIN:STANDARD
TZOFFSETFROM:+0100
TZOFFSETTO:+0000
TZNAME:GMT
DTSTART:20261025T010000
END:STANDARD
END:VTIMEZONE
BEGIN:VEVENT
DTSTART;TZID=Europe/London:20250310T190000
DTEND;TZID=Europe/London:20250310T210000
DTSTAMP:20260424T030747
CREATED:20250303T204223Z
LAST-MODIFIED:20250305T195450Z
UID:5274-1741633200-1741640400@ekmmoc.co.uk
SUMMARY:Club Meeting - Dog and Duck
DESCRIPTION:With Raffle
URL:https://ekmmoc.co.uk/event/club-meeting-dog-and-duck-89/
LOCATION:Dog and Duck\, Plucks Gutter\, CT3 1JB\, United Kingdom
END:VEVENT
BEGIN:VEVENT
DTSTART;TZID=Europe/London:20250320T103000
DTEND;TZID=Europe/London:20250320T123000
DTSTAMP:20260424T030747
CREATED:20250210T224944Z
LAST-MODIFIED:20250210T224944Z
UID:5268-1742466600-1742473800@ekmmoc.co.uk
SUMMARY:March Daytime Run
DESCRIPTION:This year’s daytime runs kick off in March with this run from Canterbury Garden Centre at Chartham. Meet at 10.30 to set off at 11. Thanks to Nigel for organising the route.
URL:https://ekmmoc.co.uk/event/march-daytime-run/
LOCATION:Chartham Garden Centre\, Ashford Road\, Chartham\, CT4 7HF\, United Kingdom
END:VEVENT
END:VCALENDAR